BEGIN:VCALENDAR
VERSION:2.0
PRODID:-//hacksw/handcal//NONSGML v1.0//EN
BEGIN:VEVENT
SUMMARY:TROPHEE SENIOR BADEN
UID:5c24e316-40b7-47d9-bc35-2ca24b582006
DTSTART:20260630T220000Z
DTEND:20260702T220000Z
LOCATION:Localisation   
CATEGORIES:Sportif
STATUS:
URL;VALUE=URI:https://www.seniorsgolfeursdebretagne.com/evenements/2026/07/01/trophee-senior-baden-2367479
END:VEVENT
END:VCALENDAR
